Package: chipenrich Version: 2.33.0 Command: /home/biocbuild/R/R/bin/R CMD INSTALL chipenrich StartedAt: 2025-07-07 20:41:29 -0000 (Mon, 07 Jul 2025) EndedAt: 2025-07-07 20:42:22 -0000 (Mon, 07 Jul 2025) EllapsedTime: 53.3 seconds RetCode: 0 Status: OK