Package: chipenrich Version: 2.33.0 Command: /home/biocbuild/R/R/bin/R CMD build --keep-empty-dirs --no-resave-data chipenrich StartedAt: 2025-07-07 22:22:29 -0000 (Mon, 07 Jul 2025) EndedAt: 2025-07-07 22:24:35 -0000 (Mon, 07 Jul 2025) EllapsedTime: 126.0 seconds RetCode: 0 Status: OK PackageFile: chipenrich_2.33.0.tar.gz PackageFileSize: 534.6 KiB