Package: chipenrich Version: 2.33.0 Command: /home/biocbuild/bbs-3.22-bioc/R/bin/R CMD INSTALL chipenrich StartedAt: 2025-07-07 15:30:01 -0400 (Mon, 07 Jul 2025) EndedAt: 2025-07-07 15:30:43 -0400 (Mon, 07 Jul 2025) EllapsedTime: 42.8 seconds RetCode: 0 Status: OK