Package: chipenrich Version: 2.33.0 Command: /home/biocbuild/bbs-3.22-bioc/R/bin/R CMD build --keep-empty-dirs --no-resave-data --md5 chipenrich StartedAt: 2025-07-07 16:36:04 -0400 (Mon, 07 Jul 2025) EndedAt: 2025-07-07 16:37:40 -0400 (Mon, 07 Jul 2025) EllapsedTime: 96.1 seconds RetCode: 0 Status: OK PackageFile: chipenrich_2.33.0.tar.gz PackageFileSize: 768.6 KiB