Package: chipenrich Version: 2.33.0 Command: /Library/Frameworks/R.framework/Resources/bin/R CMD check --install=check:chipenrich.install-out.txt --library=/Library/Frameworks/R.framework/Resources/library --no-vignettes --timings chipenrich_2.33.0.tar.gz StartedAt: 2025-07-07 19:43:18 -0400 (Mon, 07 Jul 2025) EndedAt: 2025-07-07 19:52:10 -0400 (Mon, 07 Jul 2025) EllapsedTime: 532.7 seconds RetCode: 0 Status: OK CheckDir: chipenrich.Rcheck Warnings: 0