Package: chipenrich Version: 2.33.0 Command: /Library/Frameworks/R.framework/Resources/bin/R CMD INSTALL chipenrich StartedAt: 2025-07-07 15:15:51 -0400 (Mon, 07 Jul 2025) EndedAt: 2025-07-07 15:16:08 -0400 (Mon, 07 Jul 2025) EllapsedTime: 17.4 seconds RetCode: 0 Status: OK