Package: chipenrich Version: 2.33.0 Command: /Library/Frameworks/R.framework/Resources/bin/R CMD build --keep-empty-dirs --no-resave-data chipenrich StartedAt: 2025-07-07 15:50:34 -0400 (Mon, 07 Jul 2025) EndedAt: 2025-07-07 15:51:15 -0400 (Mon, 07 Jul 2025) EllapsedTime: 41.5 seconds RetCode: 0 Status: OK PackageFile: chipenrich_2.33.0.tar.gz PackageFileSize: 654.1 KiB