Package: chimeraviz Version: 1.35.0 Command: F:\biocbuild\bbs-3.22-bioc\R\bin\R.exe CMD INSTALL chimeraviz StartedAt: 2025-07-24 17:08:23 -0400 (Thu, 24 Jul 2025) EndedAt: 2025-07-24 17:10:13 -0400 (Thu, 24 Jul 2025) EllapsedTime: 110.2 seconds RetCode: 0 Status: OK