Package: chimeraviz Version: 1.35.0 Command: chmod a+r chimeraviz -R && F:\biocbuild\bbs-3.22-bioc\R\bin\R.exe CMD build --keep-empty-dirs --no-resave-data chimeraviz StartedAt: 2025-07-24 18:09:04 -0400 (Thu, 24 Jul 2025) EndedAt: 2025-07-24 18:13:53 -0400 (Thu, 24 Jul 2025) EllapsedTime: 288.3 seconds RetCode: 0 Status: OK PackageFile: chimeraviz_1.35.0.tar.gz PackageFileSize: 2.736 MiB