Package: chimeraviz Version: 1.35.0 Command: /Library/Frameworks/R.framework/Resources/bin/R CMD check --install=check:chimeraviz.install-out.txt --library=/Library/Frameworks/R.framework/Resources/library --no-vignettes --timings chimeraviz_1.35.0.tar.gz StartedAt: 2025-07-11 19:43:59 -0400 (Fri, 11 Jul 2025) EndedAt: 2025-07-11 19:55:24 -0400 (Fri, 11 Jul 2025) EllapsedTime: 685.1 seconds RetCode: 0 Status: OK CheckDir: chimeraviz.Rcheck Warnings: 0