Package: chimeraviz Version: 1.35.0 Command: /Library/Frameworks/R.framework/Resources/bin/R CMD check --install=check:chimeraviz.install-out.txt --library=/Library/Frameworks/R.framework/Resources/library --no-vignettes --timings chimeraviz_1.35.0.tar.gz StartedAt: 2025-07-14 18:29:18 -0400 (Mon, 14 Jul 2025) EndedAt: 2025-07-14 18:32:58 -0400 (Mon, 14 Jul 2025) EllapsedTime: 219.7 seconds RetCode: 0 Status: OK CheckDir: chimeraviz.Rcheck Warnings: 0