Package: chihaya Version: 1.9.0 Command: /home/biocbuild/R/R/bin/R CMD INSTALL chihaya StartedAt: 2025-07-21 21:02:33 -0000 (Mon, 21 Jul 2025) EndedAt: 2025-07-21 21:03:19 -0000 (Mon, 21 Jul 2025) EllapsedTime: 46.3 seconds RetCode: 0 Status: OK