Package: chihaya Version: 1.9.0 Command: /home/biocbuild/R/R/bin/R CMD check --install=check:chihaya.install-out.txt --library=/home/biocbuild/R/R/site-library --no-vignettes --timings chihaya_1.9.0.tar.gz StartedAt: 2025-07-22 05:31:29 -0000 (Tue, 22 Jul 2025) EndedAt: 2025-07-22 05:34:31 -0000 (Tue, 22 Jul 2025) EllapsedTime: 182.2 seconds RetCode: 0 Status: WARNINGS CheckDir: chihaya.Rcheck Warnings: 1