Package: chihaya Version: 1.9.0 Command: /home/biocbuild/R/R/bin/R CMD build --keep-empty-dirs --no-resave-data chihaya StartedAt: 2025-07-21 22:41:26 -0000 (Mon, 21 Jul 2025) EndedAt: 2025-07-21 22:42:27 -0000 (Mon, 21 Jul 2025) EllapsedTime: 61.0 seconds RetCode: 0 Status: OK PackageFile: chihaya_1.9.0.tar.gz PackageFileSize: 284.4 KiB