Package: chihaya Version: 1.9.0 Command: /home/biocbuild/bbs-3.22-bioc/R/bin/R CMD build --keep-empty-dirs --no-resave-data --md5 chihaya StartedAt: 2025-07-04 16:31:38 -0400 (Fri, 04 Jul 2025) EndedAt: 2025-07-04 16:32:22 -0400 (Fri, 04 Jul 2025) EllapsedTime: 44.1 seconds RetCode: 0 Status: OK PackageFile: chihaya_1.9.0.tar.gz PackageFileSize: 260.9 KiB