Package: chihaya Version: 1.9.0 Command: /Library/Frameworks/R.framework/Resources/bin/R CMD build --keep-empty-dirs --no-resave-data chihaya StartedAt: 2025-07-11 16:23:03 -0400 (Fri, 11 Jul 2025) EndedAt: 2025-07-11 16:23:50 -0400 (Fri, 11 Jul 2025) EllapsedTime: 46.7 seconds RetCode: 0 Status: OK PackageFile: chihaya_1.9.0.tar.gz PackageFileSize: 258.1 KiB