Package: chevreulShiny Version: 1.1.2 Command: /home/biocbuild/R/R/bin/R CMD INSTALL chevreulShiny StartedAt: 2025-07-24 22:06:46 -0000 (Thu, 24 Jul 2025) EndedAt: 2025-07-24 22:07:59 -0000 (Thu, 24 Jul 2025) EllapsedTime: 73.9 seconds RetCode: 0 Status: OK