Package: chevreulShiny Version: 1.1.2 Command: /home/biocbuild/R/R/bin/R CMD build --keep-empty-dirs --no-resave-data chevreulShiny StartedAt: 2025-07-24 23:22:10 -0000 (Thu, 24 Jul 2025) EndedAt: 2025-07-24 23:23:52 -0000 (Thu, 24 Jul 2025) EllapsedTime: 102.0 seconds RetCode: 0 Status: OK PackageFile: chevreulShiny_1.1.2.tar.gz PackageFileSize: 7.6 MiB