Package: chevreulShiny Version: 1.1.2 Command: chmod a+r chevreulShiny -R && F:\biocbuild\bbs-3.22-bioc\R\bin\R.exe CMD build --keep-empty-dirs --no-resave-data chevreulShiny StartedAt: 2025-07-06 17:54:50 -0400 (Sun, 06 Jul 2025) EndedAt: 2025-07-06 17:56:51 -0400 (Sun, 06 Jul 2025) EllapsedTime: 121.4 seconds RetCode: 0 Status: OK PackageFile: chevreulShiny_1.1.2.tar.gz PackageFileSize: 7.471 MiB