Package: chevreulShiny Version: 1.1.2 Command: rm -rf chevreulShiny.buildbin-libdir && mkdir chevreulShiny.buildbin-libdir && F:\biocbuild\bbs-3.22-bioc\R\bin\R.exe CMD INSTALL --build --library=chevreulShiny.buildbin-libdir chevreulShiny_1.1.2.tar.gz StartedAt: 2025-07-07 08:27:07 -0400 (Mon, 07 Jul 2025) EndedAt: 2025-07-07 08:28:44 -0400 (Mon, 07 Jul 2025) EllapsedTime: 97.7 seconds RetCode: 0 Status: OK PackageFile: chevreulShiny_1.1.2.zip PackageFileSize: 6.385 MiB