Package: chevreulShiny Version: 1.1.2 Command: /home/biocbuild/bbs-3.22-bioc/R/bin/R CMD INSTALL chevreulShiny StartedAt: 2025-07-07 15:56:07 -0400 (Mon, 07 Jul 2025) EndedAt: 2025-07-07 15:57:07 -0400 (Mon, 07 Jul 2025) EllapsedTime: 59.7 seconds RetCode: 0 Status: OK