Package: chevreulShiny Version: 1.1.2 Command: /home/biocbuild/bbs-3.22-bioc/R/bin/R CMD build --keep-empty-dirs --no-resave-data --md5 chevreulShiny StartedAt: 2025-07-15 16:31:41 -0400 (Tue, 15 Jul 2025) EndedAt: 2025-07-15 16:33:01 -0400 (Tue, 15 Jul 2025) EllapsedTime: 80.1 seconds RetCode: 0 Status: OK PackageFile: chevreulShiny_1.1.2.tar.gz PackageFileSize: 7.473 MiB