Package: chevreulShiny Version: 1.1.2 Command: /Library/Frameworks/R.framework/Resources/bin/R CMD check --install=check:chevreulShiny.install-out.txt --library=/Library/Frameworks/R.framework/Resources/library --no-vignettes --timings chevreulShiny_1.1.2.tar.gz StartedAt: 2025-07-21 19:39:58 -0400 (Mon, 21 Jul 2025) EndedAt: 2025-07-21 19:47:43 -0400 (Mon, 21 Jul 2025) EllapsedTime: 464.4 seconds RetCode: 0 Status: OK CheckDir: chevreulShiny.Rcheck Warnings: 0