Package: chevreulShiny Version: 1.1.2 Command: /Library/Frameworks/R.framework/Resources/bin/R CMD build --keep-empty-dirs --no-resave-data chevreulShiny StartedAt: 2025-07-20 16:26:00 -0400 (Sun, 20 Jul 2025) EndedAt: 2025-07-20 16:27:30 -0400 (Sun, 20 Jul 2025) EllapsedTime: 90.1 seconds RetCode: 0 Status: OK PackageFile: chevreulShiny_1.1.2.tar.gz PackageFileSize: 7.471 MiB