Package: chevreulShiny Version: 1.1.2 Command: /Library/Frameworks/R.framework/Resources/bin/R CMD INSTALL chevreulShiny StartedAt: 2025-07-11 15:29:09 -0400 (Fri, 11 Jul 2025) EndedAt: 2025-07-11 15:29:32 -0400 (Fri, 11 Jul 2025) EllapsedTime: 23.1 seconds RetCode: 0 Status: OK