Package: chevreulShiny Version: 1.1.2 Command: /Library/Frameworks/R.framework/Resources/bin/R CMD build --keep-empty-dirs --no-resave-data chevreulShiny StartedAt: 2025-07-11 15:50:41 -0400 (Fri, 11 Jul 2025) EndedAt: 2025-07-11 15:51:15 -0400 (Fri, 11 Jul 2025) EllapsedTime: 34.4 seconds RetCode: 0 Status: OK PackageFile: chevreulShiny_1.1.2.tar.gz PackageFileSize: 7.471 MiB