Package: chevreulProcess Version: 1.1.2 Command: F:\biocbuild\bbs-3.22-bioc\R\bin\R.exe CMD INSTALL chevreulProcess StartedAt: 2025-07-20 16:53:47 -0400 (Sun, 20 Jul 2025) EndedAt: 2025-07-20 16:55:02 -0400 (Sun, 20 Jul 2025) EllapsedTime: 74.4 seconds RetCode: 0 Status: OK