Package: chevreulProcess Version: 1.1.2 Command: chmod a+r chevreulProcess -R && F:\biocbuild\bbs-3.22-bioc\R\bin\R.exe CMD build --keep-empty-dirs --no-resave-data chevreulProcess StartedAt: 2025-07-20 17:56:22 -0400 (Sun, 20 Jul 2025) EndedAt: 2025-07-20 17:58:13 -0400 (Sun, 20 Jul 2025) EllapsedTime: 111.6 seconds RetCode: 0 Status: OK PackageFile: chevreulProcess_1.1.2.tar.gz PackageFileSize: 4.756 MiB