Package: chevreulProcess Version: 1.1.2 Command: /Library/Frameworks/R.framework/Resources/bin/R CMD INSTALL chevreulProcess StartedAt: 2025-07-07 15:42:42 -0400 (Mon, 07 Jul 2025) EndedAt: 2025-07-07 15:43:53 -0400 (Mon, 07 Jul 2025) EllapsedTime: 71.1 seconds RetCode: 0 Status: OK