Package: chevreulProcess Version: 1.1.2 Command: /Library/Frameworks/R.framework/Resources/bin/R CMD check --install=check:chevreulProcess.install-out.txt --library=/Library/Frameworks/R.framework/Resources/library --no-vignettes --timings chevreulProcess_1.1.2.tar.gz StartedAt: 2025-07-07 19:42:55 -0400 (Mon, 07 Jul 2025) EndedAt: 2025-07-07 19:50:21 -0400 (Mon, 07 Jul 2025) EllapsedTime: 445.8 seconds RetCode: 0 Status: OK CheckDir: chevreulProcess.Rcheck Warnings: 0