Package: chevreulProcess Version: 1.1.2 Command: /Library/Frameworks/R.framework/Resources/bin/R CMD build --keep-empty-dirs --no-resave-data chevreulProcess StartedAt: 2025-07-07 16:23:30 -0400 (Mon, 07 Jul 2025) EndedAt: 2025-07-07 16:24:49 -0400 (Mon, 07 Jul 2025) EllapsedTime: 79.9 seconds RetCode: 0 Status: OK PackageFile: chevreulProcess_1.1.2.tar.gz PackageFileSize: 4.756 MiB