Package: chevreulProcess Version: 1.1.2 Command: rm -rf chevreulProcess.buildbin-libdir && mkdir chevreulProcess.buildbin-libdir && /Users/biocbuild/BBS/utils/build-universal.sh chevreulProcess_1.1.2.tar.gz /Library/Frameworks/R.framework/Resources/bin/R chevreulProcess.buildbin-libdir StartedAt: 2025-07-08 00:45:30 -0400 (Tue, 08 Jul 2025) EndedAt: 2025-07-08 00:46:43 -0400 (Tue, 08 Jul 2025) EllapsedTime: 72.6 seconds RetCode: 0 Status: OK PackageFile: chevreulProcess_1.1.2.tgz PackageFileSize: 4.863 MiB