Package: chevreulPlot Version: 1.1.2 Command: /home/biocbuild/R/R/bin/R CMD INSTALL chevreulPlot StartedAt: 2025-07-10 22:12:06 -0000 (Thu, 10 Jul 2025) EndedAt: 2025-07-10 22:13:15 -0000 (Thu, 10 Jul 2025) EllapsedTime: 69.4 seconds RetCode: 0 Status: OK