Package: chevreulPlot Version: 1.1.2 Command: /home/biocbuild/R/R/bin/R CMD build --keep-empty-dirs --no-resave-data chevreulPlot StartedAt: 2025-07-10 23:44:10 -0000 (Thu, 10 Jul 2025) EndedAt: 2025-07-10 23:45:47 -0000 (Thu, 10 Jul 2025) EllapsedTime: 97.0 seconds RetCode: 0 Status: OK PackageFile: chevreulPlot_1.1.2.tar.gz PackageFileSize: 12.74 MiB