Package: chevreulPlot Version: 1.1.2 Command: chmod a+r chevreulPlot -R && F:\biocbuild\bbs-3.22-bioc\R\bin\R.exe CMD build --keep-empty-dirs --no-resave-data chevreulPlot StartedAt: 2025-07-20 17:56:19 -0400 (Sun, 20 Jul 2025) EndedAt: 2025-07-20 17:58:08 -0400 (Sun, 20 Jul 2025) EllapsedTime: 109.6 seconds RetCode: 0 Status: OK PackageFile: chevreulPlot_1.1.2.tar.gz PackageFileSize: 12.61 MiB