Package: chevreulPlot Version: 1.1.2 Command: /Library/Frameworks/R.framework/Resources/bin/R CMD INSTALL chevreulPlot StartedAt: 2025-07-16 15:47:45 -0400 (Wed, 16 Jul 2025) EndedAt: 2025-07-16 15:48:55 -0400 (Wed, 16 Jul 2025) EllapsedTime: 69.9 seconds RetCode: 0 Status: OK