Package: chevreulPlot Version: 1.1.2 Command: /Library/Frameworks/R.framework/Resources/bin/R CMD check --install=check:chevreulPlot.install-out.txt --library=/Library/Frameworks/R.framework/Resources/library --no-vignettes --timings chevreulPlot_1.1.2.tar.gz StartedAt: 2025-07-14 19:46:07 -0400 (Mon, 14 Jul 2025) EndedAt: 2025-07-14 19:53:40 -0400 (Mon, 14 Jul 2025) EllapsedTime: 453.0 seconds RetCode: 0 Status: OK CheckDir: chevreulPlot.Rcheck Warnings: 0