Package: cghMCR Version: 1.67.0 Command: /home/biocbuild/R/R/bin/R CMD INSTALL cghMCR StartedAt: 2025-07-10 21:36:18 -0000 (Thu, 10 Jul 2025) EndedAt: 2025-07-10 21:36:44 -0000 (Thu, 10 Jul 2025) EllapsedTime: 25.8 seconds RetCode: 0 Status: OK