Package: cghMCR Version: 1.67.0 Command: /home/biocbuild/R/R/bin/R CMD build --keep-empty-dirs --no-resave-data cghMCR StartedAt: 2025-07-10 23:43:35 -0000 (Thu, 10 Jul 2025) EndedAt: 2025-07-10 23:44:56 -0000 (Thu, 10 Jul 2025) EllapsedTime: 81.0 seconds RetCode: 0 Status: OK PackageFile: cghMCR_1.67.0.tar.gz PackageFileSize: 36.1 MiB