Package: cghMCR Version: 1.67.0 Command: /Library/Frameworks/R.framework/Resources/bin/R CMD INSTALL cghMCR StartedAt: 2025-07-22 15:24:36 -0400 (Tue, 22 Jul 2025) EndedAt: 2025-07-22 15:25:03 -0400 (Tue, 22 Jul 2025) EllapsedTime: 27.1 seconds RetCode: 0 Status: OK