Package: cghMCR Version: 1.67.0 Command: /Library/Frameworks/R.framework/Resources/bin/R CMD build --keep-empty-dirs --no-resave-data cghMCR StartedAt: 2025-07-22 16:16:17 -0400 (Tue, 22 Jul 2025) EndedAt: 2025-07-22 16:17:31 -0400 (Tue, 22 Jul 2025) EllapsedTime: 74.4 seconds RetCode: 0 Status: OK PackageFile: cghMCR_1.67.0.tar.gz PackageFileSize: 36.1 MiB