Package: cghMCR Version: 1.67.0 Command: rm -rf cghMCR.buildbin-libdir && mkdir cghMCR.buildbin-libdir && /Users/biocbuild/BBS/utils/build-universal.sh cghMCR_1.67.0.tar.gz /Library/Frameworks/R.framework/Resources/bin/R cghMCR.buildbin-libdir StartedAt: 2025-07-23 00:58:05 -0400 (Wed, 23 Jul 2025) EndedAt: 2025-07-23 00:58:50 -0400 (Wed, 23 Jul 2025) EllapsedTime: 44.8 seconds RetCode: 0 Status: OK PackageFile: cghMCR_1.67.0.tgz PackageFileSize: 37.03 MiB