Package: cghMCR Version: 1.67.0 Command: /Library/Frameworks/R.framework/Resources/bin/R CMD INSTALL cghMCR StartedAt: 2025-07-01 15:14:43 -0400 (Tue, 01 Jul 2025) EndedAt: 2025-07-01 15:14:50 -0400 (Tue, 01 Jul 2025) EllapsedTime: 7.6 seconds RetCode: 0 Status: OK