Package: cfdnakit Version: 1.7.0 Command: rm -rf cfdnakit.buildbin-libdir && mkdir cfdnakit.buildbin-libdir && F:\biocbuild\bbs-3.22-bioc\R\bin\R.exe CMD INSTALL --build --library=cfdnakit.buildbin-libdir cfdnakit_1.7.0.tar.gz StartedAt: 2025-07-16 08:34:05 -0400 (Wed, 16 Jul 2025) EndedAt: 2025-07-16 08:34:43 -0400 (Wed, 16 Jul 2025) EllapsedTime: 38.2 seconds RetCode: 0 Status: OK PackageFile: cfdnakit_1.7.0.zip PackageFileSize: 2.582 MiB