Package: cfTools Version: 1.9.0 Command: F:\biocbuild\bbs-3.22-bioc\R\bin\R.exe CMD INSTALL cfTools StartedAt: 2025-07-01 15:49:39 -0400 (Tue, 01 Jul 2025) EndedAt: 2025-07-01 15:51:13 -0400 (Tue, 01 Jul 2025) EllapsedTime: 93.1 seconds RetCode: 0 Status: OK