Package: censcyt Version: 1.17.0 Command: /home/biocbuild/R/R/bin/R CMD INSTALL censcyt StartedAt: 2025-10-02 20:44:25 -0000 (Thu, 02 Oct 2025) EndedAt: 2025-10-02 20:45:09 -0000 (Thu, 02 Oct 2025) EllapsedTime: 44.5 seconds RetCode: 0 Status: OK