Package: censcyt Version: 1.17.0 Command: F:\biocbuild\bbs-3.22-bioc\R\bin\R.exe CMD INSTALL censcyt StartedAt: 2025-08-14 16:03:26 -0400 (Thu, 14 Aug 2025) EndedAt: 2025-08-14 16:04:04 -0400 (Thu, 14 Aug 2025) EllapsedTime: 38.2 seconds RetCode: 0 Status: OK