Package: censcyt Version: 1.17.0 Command: /Library/Frameworks/R.framework/Resources/bin/R CMD check --install=check:censcyt.install-out.txt --library=/Library/Frameworks/R.framework/Resources/library --no-vignettes --timings censcyt_1.17.0.tar.gz StartedAt: 2025-10-05 20:21:10 -0400 (Sun, 05 Oct 2025) EndedAt: 2025-10-05 20:26:39 -0400 (Sun, 05 Oct 2025) EllapsedTime: 329.1 seconds RetCode: 0 Status: OK CheckDir: censcyt.Rcheck Warnings: 0