Package: censcyt Version: 1.17.0 Command: /Library/Frameworks/R.framework/Resources/bin/R CMD build --keep-empty-dirs --no-resave-data censcyt StartedAt: 2025-10-05 16:21:19 -0400 (Sun, 05 Oct 2025) EndedAt: 2025-10-05 16:22:54 -0400 (Sun, 05 Oct 2025) EllapsedTime: 95.9 seconds RetCode: 0 Status: OK PackageFile: censcyt_1.17.0.tar.gz PackageFileSize: 510.4 KiB