Package: censcyt Version: 1.17.0 Command: rm -rf censcyt.buildbin-libdir && mkdir censcyt.buildbin-libdir && /Users/biocbuild/BBS/utils/build-universal.sh censcyt_1.17.0.tar.gz /Library/Frameworks/R.framework/Resources/bin/R censcyt.buildbin-libdir StartedAt: 2025-10-06 01:52:20 -0400 (Mon, 06 Oct 2025) EndedAt: 2025-10-06 01:53:08 -0400 (Mon, 06 Oct 2025) EllapsedTime: 47.6 seconds RetCode: 0 Status: OK PackageFile: censcyt_1.17.0.tgz PackageFileSize: 607.8 KiB